BEGIN:VCALENDAR
VERSION:2.0
PRODID:-//tapahtumainfo.fi//NONSGML Kiitos Katri Helena -konsertti//EN
METHOD:REQUEST
BEGIN:VEVENT
UID:20260422T221302-964582013-tapahtumainfo.fi
DTSTAMP:20260422T221302
DTSTART:20270219T190000Z
DTEND:20270219T020000Z
LOCATION:Tapiolasali, Espoon kulttuurikeskus
SUMMARY:Kiitos Katri Helena -konsertti
DESCRIPTION:<html><head></head><body> <br /><br />  Visit event in our website: <a href='https://tapahtumainfo.fi/tapahtuma/2027/02/kiitos-katri-helena-konsertti/441970'>Tapahtumainfo.fi</a></body></html>
END:VEVENT
END:VCALENDAR
