BEGIN:VCALENDAR
VERSION:2.0
PRODID:-//tapahtumainfo.fi//NONSGML Naulakkomaksu 3€/hlö: Ismo Leikola - Omasta mielestä -kiertue K18//EN
METHOD:REQUEST
BEGIN:VEVENT
UID:20260421T012836-714468244-tapahtumainfo.fi
DTSTAMP:20260421T012836
DTSTART:20260914T190000Z
DTEND:20260914T020000Z
LOCATION:Madetojan salin naulakko
SUMMARY:Naulakkomaksu 3€/hlö: Ismo Leikola - Omasta mielestä -kiertue K18
DESCRIPTION:<html><head></head><body> <br /><br />  Visit event in our website: <a href='https://tapahtumainfo.fi/tapahtuma/2026/09/naulakkomaksu-3-hlo-ismo-leikola-omasta-mielesta-kiertue-k18/441974'>Tapahtumainfo.fi</a></body></html>
END:VEVENT
END:VCALENDAR
