BEGIN:VCALENDAR
VERSION:2.0
PRODID:-//tapahtumainfo.fi//NONSGML Naulakkomaksu: Kiitos Katri Helena//EN
METHOD:REQUEST
BEGIN:VEVENT
UID:20260422T233016-1204085195-tapahtumainfo.fi
DTSTAMP:20260422T233016
DTSTART:20270212T190000Z
DTEND:20270212T020000Z
LOCATION:Madetojan salin naulakko
SUMMARY:Naulakkomaksu: Kiitos Katri Helena
DESCRIPTION:<html><head></head><body> <br /><br />  Visit event in our website: <a href='https://tapahtumainfo.fi/tapahtuma/2027/02/naulakkomaksu-kiitos-katri-helena/441977'>Tapahtumainfo.fi</a></body></html>
END:VEVENT
END:VCALENDAR
