BEGIN:VCALENDAR
VERSION:2.0
PRODID:-//tapahtumainfo.fi//NONSGML Narikkaliput: Niko Kivelä - Sananvapaus K16//EN
METHOD:REQUEST
BEGIN:VEVENT
UID:20260420T042323-135542964-tapahtumainfo.fi
DTSTAMP:20260420T042323
DTSTART:20261204T190000Z
DTEND:20261204T020000Z
LOCATION:Satama Areena
SUMMARY:Narikkaliput: Niko Kivelä - Sananvapaus K16
DESCRIPTION:<html><head></head><body> <br /><br />  Visit event in our website: <a href='https://tapahtumainfo.fi/tapahtuma/2026/12/narikkaliput-niko-kivela-sananvapaus-k16/441980'>Tapahtumainfo.fi</a></body></html>
END:VEVENT
END:VCALENDAR
