BEGIN:VCALENDAR
VERSION:2.0
PRODID:-//tapahtumainfo.fi//NONSGML Naulakkomaksu 3,50€/hl:  Beat Show - Heat Beat Repeat//EN
METHOD:REQUEST
BEGIN:VEVENT
UID:20260420T031542-1523390484-tapahtumainfo.fi
DTSTAMP:20260420T031542
DTSTART:20260505T180000Z
DTEND:20260505T020000Z
LOCATION:Logomo
SUMMARY:Naulakkomaksu 3,50€/hl:  Beat Show - Heat Beat Repeat
DESCRIPTION:<html><head></head><body> <br /><br />  Visit event in our website: <a href='https://tapahtumainfo.fi/tapahtuma/2026/05/naulakkomaksu-3-50-hl-beat-show-heat-beat-repeat/441982'>Tapahtumainfo.fi</a></body></html>
END:VEVENT
END:VCALENDAR
