BEGIN:VCALENDAR
VERSION:2.0
PRODID:-//tapahtumainfo.fi//NONSGML Naulakkomaksu 3,50€/hlö: Ismo Leikola - Omasta mielestä//EN
METHOD:REQUEST
BEGIN:VEVENT
UID:20260424T162846-105110025-tapahtumainfo.fi
DTSTAMP:20260424T162846
DTSTART:20260904T190000Z
DTEND:20260904T020000Z
LOCATION:Logomo
SUMMARY:Naulakkomaksu 3,50€/hlö: Ismo Leikola - Omasta mielestä
DESCRIPTION:<html><head></head><body> <br /><br />  Visit event in our website: <a href='https://tapahtumainfo.fi/tapahtuma/2026/09/naulakkomaksu-3-50-hlo-ismo-leikola-omasta-mielesta/441983'>Tapahtumainfo.fi</a></body></html>
END:VEVENT
END:VCALENDAR
