BEGIN:VCALENDAR
VERSION:2.0
PRODID:-//tapahtumainfo.fi//NONSGML Naulakkomaksu 3,50€/hlö: DOLLY STYLE (SE) ikärajaton//EN
METHOD:REQUEST
BEGIN:VEVENT
UID:20260420T000900-551182558-tapahtumainfo.fi
DTSTAMP:20260420T000900
DTSTART:20260912T150000Z
DTEND:20260912T020000Z
LOCATION:Teatro naulakkomaksu
SUMMARY:Naulakkomaksu 3,50€/hlö: DOLLY STYLE (SE) ikärajaton
DESCRIPTION:<html><head></head><body> <br /><br />  Visit event in our website: <a href='https://tapahtumainfo.fi/tapahtuma/2026/09/naulakkomaksu-3-50-hlo-dolly-style-se-ikarajaton/441984'>Tapahtumainfo.fi</a></body></html>
END:VEVENT
END:VCALENDAR
