BEGIN:VCALENDAR
VERSION:2.0
PRODID:-//tapahtumainfo.fi//NONSGML Naulakkomaksu 3,50€/hlö: DAD HARMONY (SE//EN
METHOD:REQUEST
BEGIN:VEVENT
UID:20260424T105328-436897097-tapahtumainfo.fi
DTSTAMP:20260424T105328
DTSTART:20261009T190000Z
DTEND:20261009T020000Z
LOCATION:Logomo
SUMMARY:Naulakkomaksu 3,50€/hlö: DAD HARMONY (SE
DESCRIPTION:<html><head></head><body> <br /><br />  Visit event in our website: <a href='https://tapahtumainfo.fi/tapahtuma/2026/10/naulakkomaksu-3-50-hlo-dad-harmony-se/441985'>Tapahtumainfo.fi</a></body></html>
END:VEVENT
END:VCALENDAR
