BEGIN:VCALENDAR
VERSION:2.0
PRODID:-//tapahtumainfo.fi//NONSGML Naulakkomaksu 3,50€/hlö: Kiitos Katri Helena - konsertti//EN
METHOD:REQUEST
BEGIN:VEVENT
UID:20260422T234307-1737106474-tapahtumainfo.fi
DTSTAMP:20260422T234307
DTSTART:20270204T190000Z
DTEND:20270204T020000Z
LOCATION:Logomo
SUMMARY:Naulakkomaksu 3,50€/hlö: Kiitos Katri Helena - konsertti
DESCRIPTION:<html><head></head><body> <br /><br />  Visit event in our website: <a href='https://tapahtumainfo.fi/tapahtuma/2027/02/naulakkomaksu-3-50-hlo-kiitos-katri-helena-konsertti/441989'>Tapahtumainfo.fi</a></body></html>
END:VEVENT
END:VCALENDAR
