BEGIN:VCALENDAR
VERSION:2.0
PRODID:-//tapahtumainfo.fi//NONSGML Naulakkomaksu 3,50€/hlö: Niko Kivelä - SANANVAPAUS//EN
METHOD:REQUEST
BEGIN:VEVENT
UID:20260421T054951-1177590521-tapahtumainfo.fi
DTSTAMP:20260421T054951
DTSTART:20270416T190000Z
DTEND:20270416T020000Z
LOCATION:Teatro naulakkomaksu
SUMMARY:Naulakkomaksu 3,50€/hlö: Niko Kivelä - SANANVAPAUS
DESCRIPTION:<html><head></head><body> <br /><br />  Visit event in our website: <a href='https://tapahtumainfo.fi/tapahtuma/2027/04/naulakkomaksu-3-50-hlo-niko-kivela-sananvapaus/441990'>Tapahtumainfo.fi</a></body></html>
END:VEVENT
END:VCALENDAR
