BEGIN:VCALENDAR
VERSION:2.0
PRODID:-//tapahtumainfo.fi//NONSGML Kultakortti kausikortti//EN
METHOD:REQUEST
BEGIN:VEVENT
UID:20260421T054532-155808219-tapahtumainfo.fi
DTSTAMP:20260421T054532
DTSTART:20270416T000000Z
DTEND:20270416T020000Z
LOCATION:Lappeenrannan Kaupunginteatteri
SUMMARY:Kultakortti kausikortti
DESCRIPTION:<html><head></head><body>Vieraile niin usein kuin haluat!<br>Käy mihin vain Lappeenrannan kaupunginteatterin oman tuotannon esityksiin. <br><br>Paikkalippu haetaan Asiakaspalvelukeskus Winkistä tai teatterin lipunmyynnistä. Kortti on henkilökohtainen ja voimassa näytäntökauden syksy 2025-kevät 2026. <br /><br />  Visit event in our website: <a href='https://tapahtumainfo.fi/tapahtuma/2027/04/kultakortti-kausikortti/441994'>Tapahtumainfo.fi</a></body></html>
END:VEVENT
END:VCALENDAR
