BEGIN:VCALENDAR
VERSION:2.0
PRODID:-//tapahtumainfo.fi//NONSGML SATUMAAN KUNINGAS//EN
METHOD:REQUEST
BEGIN:VEVENT
UID:20260421T065357-1711018799-tapahtumainfo.fi
DTSTAMP:20260421T065357
DTSTART:20260809T150000Z
DTEND:20260809T020000Z
LOCATION:Mustion Linnan kesäteatteri
SUMMARY:SATUMAAN KUNINGAS
DESCRIPTION:<html><head></head><body><b>SATUMAAN KUNINGAS</b><br>Reijo Taipaleen elämästä kertova musiikkinäytelmä<br><br>Suuren suosion saanut musiikkinäytelmä on kunnianosoitus Reijo Taipaleen ansiokkaalle uralle.<br><br>KÄSIKIRJOITUS: Juse Venäläinen<br>OHJAUS: Jussi Myllymäki<br>KOREOGRAFIA: Merja Kuisma<br>MUSIIKKI: Kultaisen harmonikan mestari Jani Helenius ja Onnentähti-orkesteri<br>ROOLEISSA: Tangokuninkaalliset Kari Hirvonen ja Marita Taavitsainen sekä Eikka Eronen, Merja Kuisma, Diana Anttila, Arttu Eronen ja Juse Venäläinen<br><br><b>Reijo Taipale </b>oli neljän platinalevyn ja kuudentoista kultalevyn tangokuningas, vaatimaton ja suoraselkäinen suomalainen.<br><br><i>”Satumaan kuningas”</i> -musiikkinäytelmä kertoo tarinan siitä, kuinka maalaistilan pienestä pojasta kasvoi suosittu tanssilavojen kiintotähti.<br>Pienenä lapsena ollessaan Reijo kuunteli ja ihaili lumoutuneena Olavi Virtaa. Hän sai siitä jotain, minkä alle haudata pula-ajan ja lapsuuskodin köyhyys.<br><br>Ikävuosien karttuessa Reijo ansaitsi taskurahaa halkomotteja tekemällä päästäkseen Helsinkiin toteuttamaan unelmaansa laulajana.<br>Helsingissä hän työskenteli aluksi rakennuksilla ja lauloi iltaisin naisorkesteri Rytmityttöjen solistina. Pian hänet pestattiin Kullervo Linnan orkesteriin.<br>Esiintymislavat ja suosio kasvoivat vuosi toisensa jälkeen. Konstailematon ja vähäeleinen Reijo Taipale hurmasi vähitellen suomalaisten sydämet lauluäänellään ja karismaattisella olemuksellaan ja nousi koko kansan tuntemaksi huippusolistiksi.<br><br>Hän oli tunnollinen ja luotettava esiintyjä, rehellinen oman tiensä kulkija. Hän oli aito ja helposti lähestyttävä ihminen. <br /><br />  Visit event in our website: <a href='https://tapahtumainfo.fi/tapahtuma/2026/08/satumaan-kuningas/441996'>Tapahtumainfo.fi</a></body></html>
END:VEVENT
END:VCALENDAR
