BEGIN:VCALENDAR
VERSION:2.0
PRODID:-//tapahtumainfo.fi//NONSGML Narikkaliput: Niko Kivelä - Sananvapaus K18/K16//EN
METHOD:REQUEST
BEGIN:VEVENT
UID:20260421T013120-904881906-tapahtumainfo.fi
DTSTAMP:20260421T013120
DTSTART:20260912T190000Z
DTEND:20260912T020000Z
LOCATION:Jyväskylän Paviljonki
SUMMARY:Narikkaliput: Niko Kivelä - Sananvapaus K18/K16
DESCRIPTION:<html><head></head><body> <br /><br />  Visit event in our website: <a href='https://tapahtumainfo.fi/tapahtuma/2026/09/narikkaliput-niko-kivela-sananvapaus-k18-k16/441998'>Tapahtumainfo.fi</a></body></html>
END:VEVENT
END:VCALENDAR
