BEGIN:VCALENDAR
VERSION:2.0
PRODID:-//tapahtumainfo.fi//NONSGML Narikkaliput: KASEVA K18//EN
METHOD:REQUEST
BEGIN:VEVENT
UID:20260424T105215-1030167415-tapahtumainfo.fi
DTSTAMP:20260424T105215
DTSTART:20261009T190000Z
DTEND:20261009T020000Z
LOCATION:Jyväskylän Paviljonki
SUMMARY:Narikkaliput: KASEVA K18
DESCRIPTION:<html><head></head><body> <br /><br />  Visit event in our website: <a href='https://tapahtumainfo.fi/tapahtuma/2026/10/narikkaliput-kaseva-k18/441999'>Tapahtumainfo.fi</a></body></html>
END:VEVENT
END:VCALENDAR
