BEGIN:VCALENDAR
VERSION:2.0
PRODID:-//tapahtumainfo.fi//NONSGML Välieräottelu: Vilpas - Korihait//EN
METHOD:REQUEST
BEGIN:VEVENT
UID:20260419T235018-835152053-tapahtumainfo.fi
DTSTAMP:20260419T235018
DTSTART:20260424T183000Z
DTEND:20260424T020000Z
LOCATION:Salohalli
SUMMARY:Välieräottelu: Vilpas - Korihait
DESCRIPTION:<html><head></head><body> <br /><br />  Visit event in our website: <a href='https://tapahtumainfo.fi/tapahtuma/2026/04/valieraottelu-vilpas-korihait/442002'>Tapahtumainfo.fi</a></body></html>
END:VEVENT
END:VCALENDAR
