BEGIN:VCALENDAR
VERSION:2.0
PRODID:-//tapahtumainfo.fi//NONSGML JOULULAULUISTA KAUNEIMMAT//EN
METHOD:REQUEST
BEGIN:VEVENT
UID:20260425T181340-972905428-tapahtumainfo.fi
DTSTAMP:20260425T181340
DTSTART:20261217T180000Z
DTEND:20261217T020000Z
LOCATION:Kuopion Musiikkikeskus Konserttisali
SUMMARY:JOULULAULUISTA KAUNEIMMAT
DESCRIPTION:<html><head></head><body>To 17.12. klo 15 ja klo 18<br><b>JOULULAULUISTA KAUNEIMMAT</b><br>Kuopion kaupunginorkesteri<br>Atso Almila, kapellimestari<br>Lauluyhtyeet Jyvä Ensemble ja NEÅ<br><br>Orkesteri ja Tampereen Sävel-yhtyelaulukilpailussa palkitut lauluyhtyeet Jyvä Ensemble ja NEÅ johdattavat yleisön rakkaimpien joulun klassikkosävelmien pariin.  Suomalaiset perinteiset sävelmät tuovat joulun tunnelman; luvassa on orkesterinumeroita, laulajien ja orkesterin yhteisnumeroita, lauluyhtyeiden a cappella -esityksiä sekä yhteislauluja, joissa yleisökin pääsee ääneen tai voi vaan nauttia yhteisöllisestä tunnelmasta. <br> <br>Tänä vuonna voit nauttia joulun sävelmistä joko iltapäivän lyhyemmässä konsertissa tai pidemmän kaavan mukaan illalla.  <br><br>Järj. Kuopion kaupunginorkesteri<br>Klo 15 konsertti: Kesto noin tunti, ei väliaikaa<br>Klo 18 konsertti: Kesto noin 1 tunti 45 min, sisältää väliajan<br><br> <br /><br />  Visit event in our website: <a href='https://tapahtumainfo.fi/tapahtuma/2026/12/joululauluista-kauneimmat/442004'>Tapahtumainfo.fi</a></body></html>
END:VEVENT
END:VCALENDAR
