BEGIN:VCALENDAR
VERSION:2.0
PRODID:-//tapahtumainfo.fi//NONSGML Noora Louhimo Acoustic Experience//EN
METHOD:REQUEST
BEGIN:VEVENT
UID:20260421T054500-472836197-tapahtumainfo.fi
DTSTAMP:20260421T054500
DTSTART:20260625T190000Z
DTEND:20260625T020000Z
LOCATION:Iisalmen Nuorisotalo
SUMMARY:Noora Louhimo Acoustic Experience
DESCRIPTION:<html><head></head><body><blockquote>  <blockquote>    <p>      <b>Noora Louhimo</b> on hurmannut yleisöjä ympäri maailmaa suurella       äänellään, henkeäsalpaavalla karismallaan ja maailmanluokan       live-esiintymisellään. Monipuolisen laulajan musiikilliset juuret       yltävät aina New Orleansin savuisiin blues-baareihin, Nashvillen       country-saluunoihin kuin soul-musiikinkin pariin. Soolotuotantonsa       kautta Louhimo ottaakin yleisön mukaansa matkalle kohti hänen       musiikillisia juuriaan sekä huikean äänialansa äärilaitoja!<br><br>    </p>    <p>      Louhimon soolotuotannon lisäksi illan aikana kuullaan tarkoin       valittuja covereita Louhimon esikuvilta kuten Janis Joplinilta ja       Aretha Franklinilta. Yhdessä Acoustic Experience -kokoonpanonsa       kanssa Louhimo laittaa vipinää paatuneemmankin rokkipoliisin jalan       alle, valmistaudu siis unohtumattomaan iltaan!    </p>  </blockquote></blockquote> <br /><br />  Visit event in our website: <a href='https://tapahtumainfo.fi/tapahtuma/2026/06/noora-louhimo-acoustic-experience/442005'>Tapahtumainfo.fi</a></body></html>
END:VEVENT
END:VCALENDAR
