BEGIN:VCALENDAR
VERSION:2.0
PRODID:-//tapahtumainfo.fi//NONSGML Yhdistelmälippu perjantai Takasugi + The Cold Trip//EN
METHOD:REQUEST
BEGIN:VEVENT
UID:20260423T133734-1702593269-tapahtumainfo.fi
DTSTAMP:20260423T133734
DTSTART:20260626T190000Z
DTEND:20260626T020000Z
LOCATION:Porvoon Taidetehdas
SUMMARY:Yhdistelmälippu perjantai Takasugi + The Cold Trip
DESCRIPTION:<html><head></head><body> <br /><br />  Visit event in our website: <a href='https://tapahtumainfo.fi/tapahtuma/2026/06/yhdistelmalippu-perjantai-takasugi-the-cold-trip/442011'>Tapahtumainfo.fi</a></body></html>
END:VEVENT
END:VCALENDAR
