BEGIN:VCALENDAR
VERSION:2.0
PRODID:-//tapahtumainfo.fi//NONSGML Hyvinkään orkesteri & Pauli Hanhiniemi: Sydän vasta puolillaan//EN
METHOD:REQUEST
BEGIN:VEVENT
UID:20260421T033205-1937586987-tapahtumainfo.fi
DTSTAMP:20260421T033205
DTSTART:20260912T190000Z
DTEND:20260912T020000Z
LOCATION:Hyvinkääsali
SUMMARY:Hyvinkään orkesteri & Pauli Hanhiniemi: Sydän vasta puolillaan
DESCRIPTION:<html><head></head><body><b>PAULI HANHINIEMI </b><br><b><br>SYDÄN VASTA PUOLILLAAN - konsertti! </b><br><br>Paulin voi esitellä monella tavalla, mutta satoja lauluja tehnyt laulaja-lauluntekijä on palkittu useilla palkinnoilla uransa aikana.<br><br>Hänelle on myönnetty mm. Erikois-Emma vuonna 2020 sekä Juha Vainio sanoittajapalkinnolla vuonna 2007.<br><br>Nyt 60 vuotta täytettyään Pauli on elämänsä parhaassa esiintymis- ja luomiskunnossa.<br><br>Pauli tunnetaan tietysti <b>Kolmas Nainen</b> -yhtyeen legendaarisista hiteistä, mutta myös muusta musiikista. Pauli on tehnyt lukuisia tekstejä myös muille artisteille.<br><br>Useat esim. Yö tai Popeda -yhtyeen, Pate Mustajärven ja monen muun artistin hitit ovat Paulin kynästä lähtöisin. Paulin tekstejä pidetään yhtenä suomalaisen rock -lyriikan kulmakivistä.<br><br>Yhtyeet kuten Hehkumo ja Perunateatteri ovat osa Paulin monista projekteista.<br><br>Onpa Pauli jopa näytellyt niin elokuvissa, kuin TV sarjoissa. Kirjoittanut myös kolme kirjaa.<br><br>Kappaleista kuten <b>”Tästä asti aikaa”, ”Elämän tarkoitus”, ”Äiti pojastaan pappia toivoi”, ”Hyvää ja kaunista”, ”Valehtelisin jos väittäisin”, ”Muutkin mokaa”,” Siipeen jos sain”</b> Yö -yhtyeelle tehty<b> ”Särkyvää”</b>, Popedan <b>”Tahdotko mut tosiaan”</b>, ja esimerkiksi Siiri Nordinin tunnetuksi tekemä <b>"Sydämeni osuman sai" </b><br><br>Näistä kappaleista saamme mielenkiintoisen kotimaisen musiikin setin, suuren orkesterin soittamana ja karismaattisen solistin laulaman, ison orkesterin laajalla väripaletilla.<br><br>Kapellimestarina konsertissa toimii<b> Antti Rissanen</b>.<br><br>Sovittajina viisi tämän hetken kovinta ykköstykkiä<b> Sampo Kasurinen, Rolf Gustavson, Anssi Växby, Jarkko Riihimäki </b>ja <b>Antti Rissanen</b>.<br><br>Hienoja sovituksia rautaisella ammattitaidolla.<br><br>”Valehtelisin jos väittäisin, ettei tämä konsertti kosketa” <br /><br />  Visit event in our website: <a href='https://tapahtumainfo.fi/tapahtuma/2026/09/hyvinkaan-orkesteri-pauli-hanhiniemi-sydan-vasta-puolillaan/442014'>Tapahtumainfo.fi</a></body></html>
END:VEVENT
END:VCALENDAR
