BEGIN:VCALENDAR
VERSION:2.0
PRODID:-//tapahtumainfo.fi//NONSGML Metallica//EN
METHOD:REQUEST
BEGIN:VEVENT
UID:20260423T125801-1809678326-tapahtumainfo.fi
DTSTAMP:20260423T125801
DTSTART:20261121T200000Z
DTEND:20261121T020000Z
LOCATION:
SUMMARY:Metallica
DESCRIPTION:<html><head></head><body> <br /><br />  Visit event in our website: <a href='https://tapahtumainfo.fi/tapahtuma/2026/11/metallica/442029'>Tapahtumainfo.fi</a></body></html>
END:VEVENT
END:VCALENDAR
