BEGIN:VCALENDAR
VERSION:2.0
PRODID:-//tapahtumainfo.fi//NONSGML Alabama Shakes//EN
METHOD:REQUEST
BEGIN:VEVENT
UID:20260424T162736-1170984216-tapahtumainfo.fi
DTSTAMP:20260424T162736
DTSTART:20260902T200000Z
DTEND:20260902T020000Z
LOCATION:
SUMMARY:Alabama Shakes
DESCRIPTION:<html><head></head><body> <br /><br />  Visit event in our website: <a href='https://tapahtumainfo.fi/tapahtuma/2026/09/alabama-shakes/442031'>Tapahtumainfo.fi</a></body></html>
END:VEVENT
END:VCALENDAR
