BEGIN:VCALENDAR
VERSION:2.0
PRODID:-//tapahtumainfo.fi//NONSGML Gameday 6: BEL-DEN & NED-FIN - CEV EuroVolley 2026 - Tampere//EN
METHOD:REQUEST
BEGIN:VEVENT
UID:20260424T023556-1089079161-tapahtumainfo.fi
DTSTAMP:20260424T023556
DTSTART:20260915T170000Z
DTEND:20260915T020000Z
LOCATION:Nokia Arena
SUMMARY:Gameday 6: BEL-DEN & NED-FIN - CEV EuroVolley 2026 - Tampere
DESCRIPTION:<html><head></head><body><b>CEV EuroVolley 2026 Tampere - EM-kisat valtaavat Nokia Arenan - osta lippusi nyt!</b><br><br>Veljesten historiallinen menestysvuosi saa jatkumoa EM-kotikisoissa Tampereella!<br><br>Suomalaisessa lentopallossa eletään upeita ja historiallisia hetkiä, kun lentopallo valloittaa Suomen suurimman ja moderneimman sisäareenan ensimmäistä kertaa. Miesten maajoukkueen Veljesten matka kohti Euroopan huippua on käynnissä ja tulevissa kotikisoissa jahdataan mitalia toden teolla. Varmista paikkasi katsomossa ja tule kokemaan historiallinen urheiluelämys Nokia Arenalla!<br><br>Ostamalla Finland Package -lippupaketin saat kaikki Suomen ottelupäivät lentopallon EM-kotikisoihin ja säästät 20 % yksittäisten pelipäivien hinnoista!<br><br><b>Otteluaikataulu CEV EuroVolley 2026 – Suomen lohkovaiheen ottelut Tampereella:</b><br>• To 10.9.2026<br>o Klo 20:00 Suomi – Tanska + avausohjelma<br><br>• Pe 11.9.2026<br>o Klo 17:00 Hollanti – Belgia<br>o Klo 20:00 Serbia – Viro<br><br>• La 12.9.2026<br>o Klo 15:00 Tanska – Hollanti<br>o Klo 18:00 Belgia – Suomi<br><br>• Su 13.9.2026<br>o Klo 15:00 Viro – Tanska<br>o Klo 18:00 Suomi – Serbia<br><br>• Ma 14.9.2026<br>o Klo 17:00 Serbia – Hollanti<br>o Klo 20:00 Viro – Belgia<br><br>• Ti 15.9<br>o Klo 17:00 Belgia – Tanska<br>o Klo 20:00 Hollanti – Suomi<br><br>• Ke 16.9.2026<br>o Klo 17:00 Tanska – Serbia<br>o Klo 20:00 Hollanti – Viro<br><br>• To 17.9.2026<br>o Klo 17:00 Serbia – Belgia<br>o Klo 20:00 Suomi – Viro<br><br>Ovet aukeavat tunti ennen päivän ensimmäistä ottelua.<br>0–3 vuotiaat lapset pääsevät tapahtumaan ilmaiseksi vanhemman sylissä istuen. Lapselle, joka tarvitsee oman istumapaikan, tulee ostaa erillinen lippu.<br><br>Ostamalla liput asiakas hyväksyy CEV:n tilausehdot. Ehdot ja säännöt ovat luettavissa osoitteessa: <a href="https://www.lippu.fi/obj/media/FI-eventim/downloads/T&C_EVM26.pdf" target="_blank">https://www.lippu.fi/obj/media/FI-eventim/downloads/T&C_EVM26.pdf</a> <br /><br />  Visit event in our website: <a href='https://tapahtumainfo.fi/tapahtuma/2026/09/gameday-6-bel-den-ned-fin-cev-eurovolley-2026-tampere/442037'>Tapahtumainfo.fi</a></body></html>
END:VEVENT
END:VCALENDAR
