BEGIN:VCALENDAR
VERSION:2.0
PRODID:-//tapahtumainfo.fi//NONSGML Hans Zimmer World//EN
METHOD:REQUEST
BEGIN:VEVENT
UID:20260422T144311-480345756-tapahtumainfo.fi
DTSTAMP:20260422T144311
DTSTART:20260806T190000Z
DTEND:20260806T020000Z
LOCATION:Hotelli Waltikka
SUMMARY:Hans Zimmer World
DESCRIPTION:<html><head></head><body><b>Hans Zimmer World</b><br><br /><b>Hotelli Waltikka, Waltikan piha-alue </b><br />To 6.8. Klo 19.00<br><br><b>Tampere-talo, Pieni sali (K18-alue rivit 12-17)</b><br>Pe 7.8.2026 klo 19.00<br><br><b>Olavinlinna Live 2026, Savonlinna</b><br>La 8.8.2026 klo 19.00<br><br><b>Oulun Musiikkikeskus, Madetojansali</b><br>Su 9.8.2026 klo 19:00<br><br>Liput<br>79,90/69,90/59,90 €<br><br>Konsertin kesto 2 x 45 min, väliaika 30 min<br><br>Tuotanto<br>Prodisco.fi<br><br><b>Loppuunmyydyille saleille esitetty The Music of Hans Zimmer palaa Suomeen – konsertit vuonna 2026 Tampereella ja Oulussa</b><br><br>Syyskuussa kaksitoista Suomen kaupunkia loppuunmyydyillä konserteilla hurmannut The Music of Hans Zimmer palaa vuonna 2026 Suomeen. Konsertit kuullaan perjantaina 7. elokuuta Tampere-talossa ja sunnuntaina 9. elokuuta Oulun Madetojan salissa. Ohjelmassa on vaikuttava kattaus maailmankuulun säveltäjän rakastetuimpia teoksia. Orkesteria johtaa Karel De Wilde, ja solistina esiintyy lahjakas belgialainen sopraano Louise Kuyvenhoven.<br><br>The Music of Hans Zimmer –konserteissa kuullaan filmimusiikin rakastetuimpia klassikoita belgialaisen La Chapelle Sauvage -orkesterin esittämänä. Kappalevalikoima rakentuu lukemattomia palkintoja Oscarista kahteen Golden Globeen ja neljään Grammyyn voittaneen Hans Zimmerin sävellyksistä. Konsertissa kuullaan kappaleita mm. elokuvista Da Vinci –koodi (The Da Vinci Code), Gladiaattori (Gladiator), Inception, Interstellar, Kung Fu Panda, Leijonakuningas (The Lion King), Pirates of the Caribbean -sarja ja Sherlock Holmes.<br><br>Nuorista ammattimuusikoista koostuvaa La Chapelle Sauvage -orkesteria johtaa sen perustaja Karel De Wilde ja konsertin solistina laulaa sopraano Louise Kuyvenhoven. Poikkeuksellisen lahjakas muusikko on valittu maailman arvostetuimpiin musiikkiakatemioihin lukeutuvan Queen Elisabeth Music Chapelin erityiseen koulutusohjelmaan. Belgian kansallisoopperassakin esiintynyt Louise on myös ranskalaisen Lyon Opéra Studion jäsen.<br><br>Konserteissa musiikillista elämystä tukee videoscreeneiltä näytettävät pätkät elokuvista sekä valokuvat elokuvien aikakaudelta.<br><br>THE MUSIC OF HANS ZIMMER<br>La Chapelle Sauvage (BE)<br>Kapellimestarinan Karel De Wilde ja solistinaan Louise Kuyvenhoven<br> <br /><br />  Visit event in our website: <a href='https://tapahtumainfo.fi/tapahtuma/2026/08/hans-zimmer-world/442046'>Tapahtumainfo.fi</a></body></html>
END:VEVENT
END:VCALENDAR
