BEGIN:VCALENDAR
VERSION:2.0
PRODID:-//tapahtumainfo.fi//NONSGML Club for Five - Suuret suomalaiset 2026//EN
METHOD:REQUEST
BEGIN:VEVENT
UID:20260420T054007-1387730421-tapahtumainfo.fi
DTSTAMP:20260420T054007
DTSTART:20261029T180000Z
DTEND:20261029T020000Z
LOCATION:Kotkan Kaupunginteatteri, Suuri näyttämö
SUMMARY:Club for Five - Suuret suomalaiset 2026
DESCRIPTION:<html><head></head><body><b>Suuret suomalaiset</b><br>Club For Five kotimaisempana kuin koskaan<br><br>Tämä konsertti kumoaa lavalle repullisen suomalaisen sydämen kieliä soittavia lauluja eri vuosikymmeniltä. Club For Five pohtii suomalaisuutta omasta näkökulmastaan musiikin ja muistojen kautta. Lauluyhtyeen luotsauksessa matkataan ympäri suomenmaan ja hämmästellään niin kotimaisen musiikin helmiä kuin tulevaisuuden suuruuksia. Konsertti kartoittaa viiden laulajan otannalla, mistä suuret suomalaiset on tehty. Millaista on olla suomalainen.<br><br>Vanhaa härmäläistä kansanperinnettä tai hassuja hetken villityksiä – suomalaiset sävelet kuvaavat oikeaa elämää, mutta myös rakentavat identiteettiämme ja heijastelevat katajaisen kansamme luonteenpiirteitä. Yhteiseen kulttuuriseen DNA:hamme on tallentunut kaikenlaista Katri-Helenasta Nightwishiin, Dingosta Kuumaa-yhtyeeseen ja Georg Malmsténista Juha-Tapioon. Club For Five käärii kaiken pakettiin luovalla ja yllätyksellisellä otteellaan. Huumori, suuret tunteet ja loisto yhdistyvät tavalla, joka saa kuulijan tuntemaan, että musiikki kiertää suonissa ja sykkii sydämessä. Ihmisäänellä tuotettu a cappella -musiikki ja ainutlaatuinen suomenkieli ovat kuin luodut toisilleen. <br /><br />  Visit event in our website: <a href='https://tapahtumainfo.fi/tapahtuma/2026/10/club-for-five-suuret-suomalaiset-2026/442047'>Tapahtumainfo.fi</a></body></html>
END:VEVENT
END:VCALENDAR
