BEGIN:VCALENDAR
VERSION:2.0
PRODID:-//tapahtumainfo.fi//NONSGML Logomon Terassikesä 2026: ENDSTAND, NYRKKITAPPELU, +1 K-18//EN
METHOD:REQUEST
BEGIN:VEVENT
UID:20260420T080923-219530599-tapahtumainfo.fi
DTSTAMP:20260420T080923
DTSTART:20260730T180000Z
DTEND:20260730T020000Z
LOCATION:Logomo
SUMMARY:Logomon Terassikesä 2026: ENDSTAND, NYRKKITAPPELU, +1 K-18
DESCRIPTION:<html><head></head><body> <br /><br />  Visit event in our website: <a href='https://tapahtumainfo.fi/tapahtuma/2026/07/logomon-terassikesa-2026-endstand-nyrkkitappelu-1-k-18/442048'>Tapahtumainfo.fi</a></body></html>
END:VEVENT
END:VCALENDAR
