BEGIN:VCALENDAR
VERSION:2.0
PRODID:-//tapahtumainfo.fi//NONSGML Logomon Terassikesä 2026: MAIJA VILKKUMAA, + 1 K-18//EN
METHOD:REQUEST
BEGIN:VEVENT
UID:20260422T163843-1194623673-tapahtumainfo.fi
DTSTAMP:20260422T163843
DTSTART:20260801T180000Z
DTEND:20260801T020000Z
LOCATION:Logomo
SUMMARY:Logomon Terassikesä 2026: MAIJA VILKKUMAA, + 1 K-18
DESCRIPTION:<html><head></head><body> <br /><br />  Visit event in our website: <a href='https://tapahtumainfo.fi/tapahtuma/2026/08/logomon-terassikesa-2026-maija-vilkkumaa-1-k-18/442049'>Tapahtumainfo.fi</a></body></html>
END:VEVENT
END:VCALENDAR
