BEGIN:VCALENDAR
VERSION:2.0
PRODID:-//tapahtumainfo.fi//NONSGML Logomon Terassikesä 2026: MARCUS & MARTINUS (NO) - The Room Tour//EN
METHOD:REQUEST
BEGIN:VEVENT
UID:20260422T164645-53978261-tapahtumainfo.fi
DTSTAMP:20260422T164645
DTSTART:20260808T180000Z
DTEND:20260808T020000Z
LOCATION:Logomo
SUMMARY:Logomon Terassikesä 2026: MARCUS & MARTINUS (NO) - The Room Tour
DESCRIPTION:<html><head></head><body> <br /><br />  Visit event in our website: <a href='https://tapahtumainfo.fi/tapahtuma/2026/08/logomon-terassikesa-2026-marcus-martinus-no-the-room-tour/442050'>Tapahtumainfo.fi</a></body></html>
END:VEVENT
END:VCALENDAR
