BEGIN:VCALENDAR
VERSION:2.0
PRODID:-//tapahtumainfo.fi//NONSGML Logomon Terassikesä 2026: MIRELLA Ikärajaton//EN
METHOD:REQUEST
BEGIN:VEVENT
UID:20260420T175806-1689953156-tapahtumainfo.fi
DTSTAMP:20260420T175806
DTSTART:20260812T180000Z
DTEND:20260812T020000Z
LOCATION:Logomo
SUMMARY:Logomon Terassikesä 2026: MIRELLA Ikärajaton
DESCRIPTION:<html><head></head><body> <br /><br />  Visit event in our website: <a href='https://tapahtumainfo.fi/tapahtuma/2026/08/logomon-terassikesa-2026-mirella-ikarajaton/442051'>Tapahtumainfo.fi</a></body></html>
END:VEVENT
END:VCALENDAR
