BEGIN:VCALENDAR
VERSION:2.0
PRODID:-//tapahtumainfo.fi//NONSGML Logomon Terassikesä 2026: ISMO ALANKO, JONNA TERVOMAA K-18//EN
METHOD:REQUEST
BEGIN:VEVENT
UID:20260423T114401-1452946571-tapahtumainfo.fi
DTSTAMP:20260423T114401
DTSTART:20260820T180000Z
DTEND:20260820T020000Z
LOCATION:Logomo
SUMMARY:Logomon Terassikesä 2026: ISMO ALANKO, JONNA TERVOMAA K-18
DESCRIPTION:<html><head></head><body> <br /><br />  Visit event in our website: <a href='https://tapahtumainfo.fi/tapahtuma/2026/08/logomon-terassikesa-2026-ismo-alanko-jonna-tervomaa-k-18/442052'>Tapahtumainfo.fi</a></body></html>
END:VEVENT
END:VCALENDAR
