BEGIN:VCALENDAR
VERSION:2.0
PRODID:-//tapahtumainfo.fi//NONSGML Porvoon Butchers Kausikortti 2026//EN
METHOD:REQUEST
BEGIN:VEVENT
UID:20260422T214245-278487552-tapahtumainfo.fi
DTSTAMP:20260422T214245
DTSTART:20260606T235900Z
DTEND:20260606T020000Z
LOCATION:Keskuskenttä
SUMMARY:Porvoon Butchers Kausikortti 2026
DESCRIPTION:<html><head></head><body>Vaahteraliiga 2026 pelataan seitsemän joukkueen sarjana. Mestaruudesta taistelevat helsinkiläiset Roosters ja East City Giants, hallitseva mestari Porvoon Butchers, Seinäjoki Crocodiles, Kuopio Steelers, Wasa Royals sekä Tampere Saints. Kausi käynnistyy kesäkuun ensimmäisenä viikonloppuna ja huipentuu lauantaina 12.9.2026 Helsingin Bolt Arenalla pelattavaan Vaahteramalja XLVII -otteluun, jossa ratkeaa 47. amerikkalaisen jalkapallon Suomen mestaruus.<br><br>Jenkkifutis on parasta paikan päällä. Liput liigakatsomoihin nyt myynnissä. <br /><br />  Visit event in our website: <a href='https://tapahtumainfo.fi/tapahtuma/2026/06/porvoon-butchers-kausikortti-2026/442053'>Tapahtumainfo.fi</a></body></html>
END:VEVENT
END:VCALENDAR
