BEGIN:VCALENDAR
VERSION:2.0
PRODID:-//tapahtumainfo.fi//NONSGML Butchers - East City Giants//EN
METHOD:REQUEST
BEGIN:VEVENT
UID:20260422T144547-1020364497-tapahtumainfo.fi
DTSTAMP:20260422T144547
DTSTART:20260807T183000Z
DTEND:20260807T020000Z
LOCATION:Keskuskenttä
SUMMARY:Butchers - East City Giants
DESCRIPTION:<html><head></head><body>Vaahteraliiga 2026 pelataan seitsemän joukkueen sarjana. Mestaruudesta taistelevat helsinkiläiset Roosters ja East City Giants, hallitseva mestari Porvoon Butchers, Seinäjoki Crocodiles, Kuopio Steelers, Wasa Royals sekä Tampere Saints. Kausi käynnistyy kesäkuun ensimmäisenä viikonloppuna ja huipentuu lauantaina 12.9.2026 Helsingin Bolt Arenalla pelattavaan Vaahteramalja XLVII -otteluun, jossa ratkeaa 47. amerikkalaisen jalkapallon Suomen mestaruus.<br><br>Jenkkifutis on parasta paikan päällä. Liput liigakatsomoihin nyt myynnissä. <br /><br />  Visit event in our website: <a href='https://tapahtumainfo.fi/tapahtuma/2026/08/butchers-east-city-giants/442055'>Tapahtumainfo.fi</a></body></html>
END:VEVENT
END:VCALENDAR
