BEGIN:VCALENDAR
VERSION:2.0
PRODID:-//tapahtumainfo.fi//NONSGML Ismo Leikola: Perseverance Tour K-18//EN
METHOD:REQUEST
BEGIN:VEVENT
UID:20260420T175606-10998997-tapahtumainfo.fi
DTSTAMP:20260420T175606
DTSTART:20260811T190000Z
DTEND:20260811T020000Z
LOCATION:Billnäsin Ruukki, Iso Paja
SUMMARY:Ismo Leikola: Perseverance Tour K-18
DESCRIPTION:<html><head></head><body>ISMO is an internationally acclaimed comedian, author, rally driver and master of wordplay. Freshly recovered from a broken back, Finland’s funniest export is back on stage and better than ever!<br>ISMO: Perseverance Tour blends clever wit with Finnish grit for a comedy experience that’s smart, surprising and seriously funny.<br><br>Globally recognized as THE voice of all second -language English speakers, ISMO has won over audiences in person and online with his sharp takes on language, culture and life’s absurdities.<br><br>ISMO: Perseverance Tour kicks off in 2026 with all new material and observations in the Finnish spirit of SISU – having a stoic determination, tenacity, and resilience in the face of adversity. Perseverance. ISMO does the Perseverance Tour in the U.S. Canada, Australia, Europe, Middle East, South Africa and Asia in 2026. And now in Finland at Helsinki and Billnäs!<br><br>Show is in English. <br>Age limit 18 years<br> <br /><br />  Visit event in our website: <a href='https://tapahtumainfo.fi/tapahtuma/2026/08/ismo-leikola-perseverance-tour-k-18/442058'>Tapahtumainfo.fi</a></body></html>
END:VEVENT
END:VCALENDAR
