BEGIN:VCALENDAR
VERSION:2.0
PRODID:-//tapahtumainfo.fi//NONSGML Live is Life: Jänöklubi, VBZ K-18//EN
METHOD:REQUEST
BEGIN:VEVENT
UID:20260420T093830-1256975651-tapahtumainfo.fi
DTSTAMP:20260420T093830
DTSTART:20260425T210000Z
DTEND:20260425T020000Z
LOCATION:Musta Kynnys, Jyväskylä
SUMMARY:Live is Life: Jänöklubi, VBZ K-18
DESCRIPTION:<html><head></head><body><b>Jänöklubin levyjulkkarit Mustassa Kynnyksessä 25. huhtikuuta!</b><br><br>Poliittista sanomaa, sekopäistä riehumista sekä kipeitä biittejä tarjoileva räp-kollektiivi Jänöklubi julkaisee alkuvuonna 2026 toisen albuminsa Väliaika. Yhtye lähtee albumin myötä räjäyttämään kotimaan keikkalavat julkkarikiertueella, joka saapuu Jyväskylän Musta Kynnykseen lauantaina 25. huhtikuuta.<br><br>Jänöklubi on 2023 perustettu räp-kollektiivi johon kuuluvat artistit AK, Kullervo, Neal Low, Cozie, Noitatohtori, Laimee, Armas, pikkuprinssi sekä dj fantango deluxe ja dj inaktiivinen. Musiikillisesti Jänöklubin saundi kunnioittaa old school -räpin perinteitä, mutta lisää siihen tuoretta maustetta eri genrejä yhdistellen. Eri puolilta Suomea tuleva yhtye julkaisi debyyttialbuminsa Ensinäytös vuonna 2023.<br><br><br><b>25.4.2026 Live is Life: Jänöklubi, VBZ @ Musta Kynnys<br><br></b>Ikäraja 18 vuotta<br><br>Ovet klo 21 (Ravintola aukeaa klo 14, mutta klo 21 alkaen tilassa oleskelu ainoastaan keikkalipun ostaneille. Keikkojen jälkeen ravintolaan on jälleen ilmainen sisäänpääsy)<br><br>Narikka on maksuton.<br><br>Lisätiedot ja soittoajat: <a href="https://www.jelmu.net " target="_blank">www.jelmu.net </a>ja <a href="https://www.mustakynnys.com" target="_blank">www.mustakynnys.com</a><br><b><br><br></b> <br /><br />  Visit event in our website: <a href='https://tapahtumainfo.fi/tapahtuma/2026/04/live-is-life-janoklubi-vbz-k-18/442059'>Tapahtumainfo.fi</a></body></html>
END:VEVENT
END:VCALENDAR
