BEGIN:VCALENDAR
VERSION:2.0
PRODID:-//tapahtumainfo.fi//NONSGML Eino Grön//EN
METHOD:REQUEST
BEGIN:VEVENT
UID:20260423T010320-1095662423-tapahtumainfo.fi
DTSTAMP:20260423T010320
DTSTART:20260529T020000Z
DTEND:20260529T020000Z
LOCATION:Tavastia-klubi
SUMMARY:Eino Grön
DESCRIPTION:<html><head></head><body><h3>Eino Grön Tavastialla toukokuussa!&nbsp;&nbsp;</h3><br /><p>Porin Reposaaresta kotoisin oleva Eino Grön aloitti laulajan uransa jo vuonna 1957, esiintyen paikallisyhtyeiden solistina. Vuonna 1958 levytyksen aloittanut Grön teki läpimurtonsa seuraavana vuonna kappaleella <em>Liian paljon rahaa</em>. </p><br /><p>Grönin suosio kasvoi tangolevytyksillä, kuten <em>Seinillä on korvat, Sä kuulut päivään jokaiseen</em> ja <em>Illan viimeinen tango</em>, joiden vuoksi häntä pidetään yhtenä merkittävimmistä nykyajan tangotulkitsijoista. </p><br /><p>Eino Grön on sittemmin laajentanut ohjelmistoaan mm. jazziin sekä levyttänyt muunmuassa argentiinalaisten muusikoiden kanssa. Grön on voittanut useita laulukilpailuja vuosien saatossa, muunmuassa Syksyn sävel -kilpailun kappaleella <em>Vähemmän kiirettä, enemmän aikaa</em> vuonna 1997. Lisäksi Eino Grön on palkittu Iskelmä-Finlandialla elämäntyöstään suomalaisen iskelmämusiikin puolesta, hänelle on myönnetty myös Suomen Valkoisen Ruusun Ritarikunnan ristimerkillä ja tasavallan presidentti Sauli Niinistö myönsi hänelle kulttuurineuvoksen arvonimen vuonna 2021. Hänestä on tehty <em>Tango d’Amore</em> -niminen musikaali, joka sai ensi-iltansa Porin teatterissa vuonna 2018. Grön julkaisi uusimman<em> Saunavalssi -</em>nimisen kappaleen kesäkuussa 2025.<br><br /><br><br /></p><br /><p>Eino Grönin mittavaan uraan mahtuu yllä mainittujen kappaleiden lisäksi valtava määrä koko kansan tuntemia foxtroteja, tangoja sekä iskelmiä. Konsertissa kuullaan läpileikkaus artistin tuotannosta vuosien varrelta. </p><br /><p><strong>Saavutettavuus</strong></p><br /><p>Tavastian katutason kerros on esteetön. Sisäänkäynnillä on pieni kynnys, johon on saatavilla ramppi. Tilassa on esteetön wc-tila. <a href="https://tavastiaklubi.fi/info/" target="_blank" rel="noopener">Lue lisää saavutettavuudesta Tavastian sivuilta!</a>&nbsp;Avustaja ei tarvitse erillistä lippua vaan pääsee avustettavan kanssa samalla normaalilipulla sisään. Esitäthän pyydettäessä EU:n vammaiskortin.</p><br /><p><strong>Eteispalvelu</strong></p><br /><p>Eteispalvelusta veloitamme 4 € per henkilö. Päällysvaatteet ja suuret laukut tulee jättää narikkaan turvallisuussyistä. Huomioithan, että pääsylipussa mainittu palvelumaksu tarkoittaa Tiketin lipunmyynnin palvelumaksua, eikä eteispalvelua paikan päällä.</p><br /><p><strong>Turvallisuusohje</strong><br><br>Tavastialla on nollatoleranssi kaikenlaiselle häirinnälle, kiusaamiselle, syrjinnälle, väkivallalle sekä vallan väärinkäytölle. Edellytämme jokaista meillä vierailevaa sitoutumaan turvallisemman tilan periaatteisiin. Huomioithan siis keikalla myös ihmiset ympärilläsi!</p><br /><p><strong>Ympäristölippu<br><br></strong>Ympäristölipulla osallistut Tavastian ja Luonnoperintösäätiön metsäkeräykseen: 3€ osuus ohjataan metsäkeräykseen lokakuussa 2024 hankkimamme suojelualueen laajentamiseksi. <a href="https://luonnonperintosaatio.fi/tavastian-metsa" target="_blank" rel="noopener">Tutustu tarkemmin Luonnonperintösäätiön sivuilla!</a>&nbsp;Kiitos kun olet mukana rakentamassa kestävämpää Tavastiaa!</p><br /><p>Syömään tai lasilliselle ennen keikkaa? <a href="http://www.ravintolailves.fi/" target="_blank">Tule Ravintola Ilvekseen!</a></p><br /><p><strong><br>Juomatarjoilut</strong></p><br /><p>Haluatko nostaa keikkakäyntisi seuraavalle tasolle? Tilaa juotavaa ennakkoon ja minimoi jonotusaika baarissa!</p><br /><p>Voit noutaa juomasi suoraan noutopisteeltä pääesiintyjän esityksen alkamiseen saakka, minkä jälkeen noutamattomat juomat siirretään noudettavaksi aulabaarista. Juomatarjoiluiden myynti päättyy 2 tuntia ennen tapahtuman ovien aukeamista.</p><br /><p>Huomioithan, että ostot ovat lopullisia, emmekä hyvitä juomaostoja, jos et jostain syystä pääsekään keikalle. Keikan siirtyessä tai peruuntuessa Tavastia on erikseen yhteydessä juomia ostaneisiin asiakkaisiin.</p><br /><p>Tilaa juomatarjoilut keikalle ennakkoon <a href="https://www.tiketti.fi/tavastian-juomatarjoilut-tavastia-helsinki-lippuja/114987" target="_blank">täältä</a>!</p><br /><p><strong>Talon kuohuviinipullo:</strong><br>Flors Blanques cava, Espanja<br><em>Kuiva, raikas, hedelmäinen, kukkaisa, elegantit kuplat</em></p><br /><p><strong>Talon valkoviinipullo:</strong><br>La Falaise Blanche Sauvignon Blanc, Ranska<br><em>Kuiva, aromaattinen, raikkaan hapokas, yrttisyyttä ja vihreää omenaa</em></p><br /><p><strong>Talon rieslingpullo:</strong><br>X-berg Riesling, Saksa<br><em>Kuiva, mineraalinen, hapokas, sitruksinen</em></p><br /><p><strong>Talon punaviinipullo:</strong><br>La Falaise Blanche Syrah, Ranska<br><em>Keskitäyteläinen, luumuinen, mausteinen, pehmeät ja maltilliset tanniinit</em></p><br /><p><strong>Talon parempi punaviinipullo:</strong><br>Pegasus Stellarossa, Italia<br><em>Täyteläinen, marjahilloinen, tumman kirsikkainen, runsas</em></p><br /><p><strong>Olutkori:</strong><br>4 x Karhu III 0,33l</p><br /><p><strong>Lonkerokori:</strong><br>4 x Koff Long Drink Grapefruit 0,33l</p><br /><p><strong>Makulonkerokori:</strong><br>1 x Koff Long Drink Mango, 1 x Koff Long Drink Pink Grapefruit,<br>1 x Koff Long Drink Twist, 1 x Koff Long Drink Karpalo</p><br /><p><strong>Siiderikori:</strong><br>4 x Crowmoor Dry Apple 0,33l</p><br /><p><strong><em>Yllättävissä tuotepuutoksissa pidätämme oikeuden korvata tuote vastaavalla tuotteella valikoimastamme</em></strong></p><br /><p><br></p><br /><br /><p><strong>Varmista soittoajat keikkapäivänä <a href="https://www.tavastiaklubi.fi" target="_blank"><span style="text-decoration-line: underline;">Tavastian sivuilta</span></a>.</strong><br></p> <br /><br />  Visit event in our website: <a href='https://tapahtumainfo.fi/tapahtuma/2026/05/eino-gron/442063'>Tapahtumainfo.fi</a></body></html>
END:VEVENT
END:VCALENDAR
