BEGIN:VCALENDAR
VERSION:2.0
PRODID:-//tapahtumainfo.fi//NONSGML Antimere (SWE), Ode of Disgrace, Bloodstained Halo//EN
METHOD:REQUEST
BEGIN:VEVENT
UID:20260423T010646-1136508566-tapahtumainfo.fi
DTSTAMP:20260423T010646
DTSTART:20260529T020000Z
DTEND:20260529T020000Z
LOCATION:Semifinal
SUMMARY:Antimere (SWE), Ode of Disgrace, Bloodstained Halo
DESCRIPTION:<html><head></head><body><h3>RUOTSALAINEN ANTIMERE SAAPUU SEMIFINALIIN!&nbsp;MUKANA ODE OF DISGRACE JA BLOODSTAINED HALO.</h3><br /><p></p><br /><p><strong>ANTIMERE</strong></p><br /><p>Antimere on viisihenkinen melodisen death metalin yhtye Ruotsin länsirannikon syvyyksistä. Musiikkia yhdistää raskaat ja alasviritetyt riffit ja melankoliset melodiat, joissa yhtye kunnioittaa&nbsp;juuriaan.</p><br /><p>Yhtyeen vaikutteina&nbsp;ovat In Flames ja Meshuggah, mutta soundista löytyy elementtejä yhtyeiltä kuten Currents, Silent Planet ja After the Burial.</p><br /><p>Antimere on kasvanut seikkailullisten melodioiden ja palm mute -riffien parissa, joka on johtanut soundiin josta voi nauttia niin kuulokkeilla kuin pitissäkin kuka tahansa ruotsalaisen metallin ystävä.</p><br /><p>Vuonna 2023 Antimere lämmitteli&nbsp;puolalaista death metal -legendaa Decapitatedia ja esiintyi Gefle Metal Festival -festivaalilla.<strong><br></strong><strong><br></strong></p><br /><p><strong>ODE OF DISGRACE&nbsp;</strong></p><br /><p>Yhtye perustettiin alun perin vuonna 2011 Markus Lahden ja Lauri Halmeen toimesta. Yhtyeen ensimmäiset viralliset singlet, “Gift of Life” ja “Gutter”, julkaistiin vuonna 2019 ja vuoteen 2020 mennessä&nbsp;yhtye julkaisi vielä kaksi singleä: “The End” ja “Disarmed.” Muutaman hiljaisemman vuoden jälkeen yhtye julkaisi ensimmäisen EP:nsä “Orbis”. Vuoden 2025 EP:ltä “Under Grey Skies” on jo julkaistu kolme singleä: “Bloodlust”, nimikkokappale “Under Grey Skies” sekä “Omen.”</p><br /><p>Nykyinen kokoonpano on: Roope Meriläinen laulussa, Pessi Laine kitarassa ja laulussa, Valtteri Rautanen toisessa kitarassa, Ville Lehtonen bassossa sekä Lauri Halme rummuissa.</p><br /><p><strong>BLOODSTAINED HALO&nbsp;</strong></p><br /><p>Bloodstained Halo on perustettu vuonna 2025 Lahdessa. Bloodstained Halo yhdistää metalcoren raivokkuuden, melodisen death metalin melodisuuden sekä hardcoren rosoisuuden moderniksi, vaikuttavaksi soundiksi. Raskaat riffit ja taukoamaton energia määrittelevät yhtyeen musiikkia.</p><br /><p>Suomen rikkaaseen metalliperintöön nojaava, mutta eteenpäin katsova BSH luo kappaleita, jotka iskevät kovaa ja jäävät mieleen.</p><br /><p></p><br /><p><strong><br></strong></p><br /><p><strong>SEMIFINALIN turvallisuusohje</strong></p><br /><p>Semifinalissa on nollatoleranssi kaikenlaiselle häirinnälle, kiusaamiselle, syrjinnälle, väkivallalle sekä vallan väärinkäytölle. Edellytämme jokaista meillä vierailevaa sitoutumaan turvallisemman tilan periaatteisiin. Huomioithan siis keikalla myös ihmiset ympärilläsi!</p><br /><p><strong>Saavutettavuus</strong>: Tapahtumapaikka on esteellinen. Sisäänkäynti portaikon kautta.</p><br /><p>Syömään tai lasilliselle ennen keikkaa? Tule Ravintola Ilvekseen! <a href="http://www.ravintolailves.fi/" target="_blank">www.ravintolailves.fi</a><br><br></p><br /><p><strong>Osta Ympäristölippu ja tue Tavastia Hall of Nature -hanketta!</strong><br></p><br /><p>Ympäristölipulla osallistut Tavastian ja Luonnoperintösäätiön metsäkeräykseen: 3€ osuus ohjataan metsäkeräykseen lokakuussa 2024 hankkimamme suojelualueen laajentamiseksi. Lisätietoja: <a href="https://luonnonperintosaatio.fi/tavastian-metsa" target="_blank" rel="noopener">Luonnonperintosaatio.fi/tavastian-metsa</a>. Kiitos kun olet mukana rakentamassa kestävämpää Tavastiaa!</p><br /><p><br><br /><br /></p><br /><br /><p><strong>Liput ovelta 16 €, mikäli jäljellä.</strong></p><br /><p><strong>Varmista soittoajat keikkapäivänä <u><a href="https://tavastiaklubi.fi/semifinal/" target="_blank">Semifinalin sivuilta.</a></u><br> </strong></p> <br /><br />  Visit event in our website: <a href='https://tapahtumainfo.fi/tapahtuma/2026/05/antimere-swe-ode-of-disgrace-bloodstained-halo/442064'>Tapahtumainfo.fi</a></body></html>
END:VEVENT
END:VCALENDAR
