BEGIN:VCALENDAR
VERSION:2.0
PRODID:-//tapahtumainfo.fi//NONSGML Englanninkieliset yleisÃ¶opastukset Ainolassa elokuussa//EN
METHOD:REQUEST
BEGIN:VEVENT
UID:20260426T035025-1819208259-tapahtumainfo.fi
DTSTAMP:20260426T035025
DTSTART:20260801T020000Z
DTEND:20260830T020000Z
LOCATION:Ainola
SUMMARY:Englanninkieliset yleisÃ¶opastukset Ainolassa elokuussa
DESCRIPTION:<html><head></head><body>Elokuussa Ainolassa on mahdollisuus osallistua englanninkieliselle yleisÃ¶opastukselle tiistaista sunnuntaihin. Opastukselle ei tarvitse ilmoittautua etukÃ¤teen. RyhmÃ¤Ã¤n mahtuu 25 osallistujaa. Tervetuloa! <br> <br /><br />  Visit event in our website: <a href='https://tapahtumainfo.fi/tapahtuma/2026/08/englanninkieliset-yleis-opastukset-ainolassa-elokuussa/442071'>Tapahtumainfo.fi</a></body></html>
END:VEVENT
END:VCALENDAR
