BEGIN:VCALENDAR
VERSION:2.0
PRODID:-//tapahtumainfo.fi//NONSGML EtÃ¤taiteilijatapaaminen: Lauri Greis ti 12.5.//EN
METHOD:REQUEST
BEGIN:VEVENT
UID:20260424T230030-1643085194-tapahtumainfo.fi
DTSTAMP:20260424T230030
DTSTART:20260512T020000Z
DTEND:20260512T020000Z
LOCATION:Suomen kÃ¤sityÃ¶n museo
SUMMARY:EtÃ¤taiteilijatapaaminen: Lauri Greis ti 12.5.
DESCRIPTION:<html><head></head><body>Tekstiili- ja vaatesuunnittelija Lauri Greis kertoo tapaamisessa urastaan, ja inspiraatiostaan Karelian Sportlore -mallistoon, johon pÃ¤Ã¤see tutustumaan Kujan nÃ¤yttelytilassa. <br><br>Tapahtuma jÃ¤rjestetÃ¤Ã¤n Teams-alustalla. Osallistumislinkki julkaistaan lÃ¤hempÃ¤nÃ¤ ajankohtaa. <br><br>Tapahtuma liittyy Suomen kansallispukuksen Kuja-nÃ¤yttelytilassa olevaan Karelian Sportlore -nÃ¤yttelyyn, joka on esillÃ¤ Suomen kÃ¤sityÃ¶n museossa 18.10.2026 saakka. <br> <br /><br />  Visit event in our website: <a href='https://tapahtumainfo.fi/tapahtuma/2026/05/et-taiteilijatapaaminen-lauri-greis-ti-12-5/442073'>Tapahtumainfo.fi</a></body></html>
END:VEVENT
END:VCALENDAR
