BEGIN:VCALENDAR
VERSION:2.0
PRODID:-//tapahtumainfo.fi//NONSGML Helatorstain noppapaja//EN
METHOD:REQUEST
BEGIN:VEVENT
UID:20260424T230013-35320852-tapahtumainfo.fi
DTSTAMP:20260424T230013
DTSTART:20260514T020000Z
DTEND:20260514T020000Z
LOCATION:Salon elektroniikkamuseo
SUMMARY:Helatorstain noppapaja
DESCRIPTION:<html><head></head><body>Helatorstaina on koulusta vapaa pÃ¤ivÃ¤, joten silloin on hyvÃ¤ mahdollisuus lÃ¤hteÃ¤ oppimaan kolvaamista ja rakentamaan erilaisista komponenteista elektroninen noppa.<br><br>Elektroniikkamuseon aiemmin jÃ¤rjestÃ¤mistÃ¤ elektroniikkapajoista poiketen pajaan otetaan tÃ¤llÃ¤ kertaa mukaan ainoastaan lapsesta ja hÃ¤nen kanssaan osallistuvasta aikuisesta muodostuvia tyÃ¶pareja. Lapsen tulee olla 7â10 vuoden ikÃ¤inen ja hÃ¤nen mukanaan tulevan aikuisen tuttu lÃ¤heinen, jonka kanssa lapsen on turvallista oppia juottamisen taitoja. Pajaa ohjaavat Salon Elektroniikkamuseon YstÃ¤vÃ¤t ry:n aktiivit.<br><br>Helatorstain noppapaja jÃ¤rjestetÃ¤Ã¤n elektroniikkamuseolla 14.5. klo 10â12. Mukaan mahtuu kuusi lapsesta ja aikuisesta muodostuvaa paria.<br><br>Pajamaksuna veloitamme 8 â¬/tyÃ¶pari ja se maksetaan tapahtumaa ennen museon kassalle. Ilmoittautuminen tapahtuu 13.5. mennessÃ¤ verkkolomakkeen kautta osoitteessa https://salomus.fi/ilmoittautumiset/ <br> <br /><br />  Visit event in our website: <a href='https://tapahtumainfo.fi/tapahtuma/2026/05/helatorstain-noppapaja/442075'>Tapahtumainfo.fi</a></body></html>
END:VEVENT
END:VCALENDAR
