BEGIN:VCALENDAR
VERSION:2.0
PRODID:-//tapahtumainfo.fi//NONSGML Porvoon Mieslaulajat 80V//EN
METHOD:REQUEST
BEGIN:VEVENT
UID:20260423T092551-1589225042-tapahtumainfo.fi
DTSTAMP:20260423T092551
DTSTART:20260516T170000Z
DTEND:20260516T020000Z
LOCATION:Linnankosken lukio
SUMMARY:Porvoon Mieslaulajat 80V
DESCRIPTION:<html><head></head><body>PML juhlii 80 vuotista olemassaoloaan juhlakonsertilla Linnankosken lukiolla.<br />Ohjelmassa mieskuoroklassikoja menneiltä vuosikymmeniltä nykyisyyteen.<br /><br />Lämpimasti tervetuloa juhlimaan kanssamme!<br /><br />Lippu 25€, sis. Kahvitarjoilun<br />alle 16v. ilmaiseksi<br /><br />Kesto noin 2h.<br />Ovet avataan tuntia ennen konserttia <br /><br />  Visit event in our website: <a href='https://tapahtumainfo.fi/tapahtuma/2026/05/porvoon-mieslaulajat-80v/442078'>Tapahtumainfo.fi</a></body></html>
END:VEVENT
END:VCALENDAR
