BEGIN:VCALENDAR
VERSION:2.0
PRODID:-//tapahtumainfo.fi//NONSGML MUISTOISSAMME TAPANI KANSA JUHLAKONSERTTI//EN
METHOD:REQUEST
BEGIN:VEVENT
UID:20260421T060933-374827614-tapahtumainfo.fi
DTSTAMP:20260421T060933
DTSTART:20261017T150000Z
DTEND:20261017T020000Z
LOCATION:Kuopion Musiikkikeskus Konserttisali
SUMMARY:MUISTOISSAMME TAPANI KANSA JUHLAKONSERTTI
DESCRIPTION:<html><head></head><body><b>Muistoissamme Tapani Kansa Juhlakonsertti</b><br><br>Yleisön suuren kysynnän ja toiveiden ansiosta muistokonsertit jatkuvat syksyllä ympäri Suomen.<br><br>Juhlakonsertti on kunnianosoitus Tapani Kansalle, taiteilijalle, joka lauloi itsensä suomalaisten sydämiin ja jonka musiikki elää edelleen.<br><br>Juhlakonsertissa Tapanin hittejä tulkitsevat mm.<b> Teemu Roivainen</b>,<b> Tomi Metsäketo</b>, Elämäni biisi-ohjelmasta tuttu<b> Lauri Mikkola</b>,<b> Mikael Saari</b> ja<b> Jukka Nykäsen orkesteri</b>.<br><br>Tapani Kansa oli poikkeuksellisen tuottelias ja monipuolinen taiteilija. Hän levytti yli 600 kappaletta, joista sanoitti itse 80 ja pysyi huipulla vuosikymmenestä toiseen. Kansa sai uransa aikana 14 kultalevyä ja yhden platinalevyn, ja hänet palkittiin myös Erikois-Emmalla. Repertuaari ulottui iskelmästä rock and rolliin, diskomusiikista Eino Leinon runouteen, aina tunnistettavalla, herkkyyttä ja voimaa yhdistävällä otteella.<br>Muistokonsertissa kuullaan ikimuistoisia lauluja ja monia kestohittejä: R-A-K-A-S, Hafanana, Äidin pikkupoika, Anna mun jäädä sun luo, Eloise, Kalajoen hiekat, sekä unohtumattomat tangot kuten Hopeinen kuu ja verevästi tulkitut argentiinalaiset tangot, jotka Tapani tulkitsi ainutlaatuisella intensiteetillä.<br><br>Kevään muistokonsertit myytiin loppuun kuukausi etukäteen ja ne hurmasivat yleisön, joten ole nopea ja hanki oma lippusi pian! <br /><br />  Visit event in our website: <a href='https://tapahtumainfo.fi/tapahtuma/2026/10/muistoissamme-tapani-kansa-juhlakonsertti/442092'>Tapahtumainfo.fi</a></body></html>
END:VEVENT
END:VCALENDAR
