BEGIN:VCALENDAR
VERSION:2.0
PRODID:-//tapahtumainfo.fi//NONSGML TubeTrio//EN
METHOD:REQUEST
BEGIN:VEVENT
UID:20260424T222627-973107219-tapahtumainfo.fi
DTSTAMP:20260424T222627
DTSTART:20260808T170000Z
DTEND:20260808T020000Z
LOCATION:Kangasala-talo
SUMMARY:TubeTrio
DESCRIPTION:<html><head></head><body><b>TubeTrio eli JuhoFlow, Satusetä ja Tiia Weckström tarjoavat todellisen<br>spektaakkelin 8.8. Kangasalla!</b><br><br>Luvassa on tajutonta viihdettä, sketsejä, musiikkia, yleisön osallistamista sekä tietysti meet & greet,<br>johon kaikilla esitykseen lipun ostaneilla on myös vapaa pääsy. Tällaista showta et ole ennen<br>nähnyt, joten tule, koe ja nauti!<br><br><b>TubeTrio</b> on yksi tämän hetken tunnetuimmista ja kuumimmista some-kokoonpanoista nuorten<br>keskuudessa. Heitä seuraa yli miljoona suomalaista ja heidän videoitaan katsotaan yhteensä yli 30<br>miljoonaa kertaa kuukaudessa halki kanavien. Tämän kolmikon viihdyttävä sisältö tulee vastaan<br>varmasti jokaisella alustalla.<br><br>Tutustu JuhoFlow’hun, Satusetään ja Tiia Weckströmiin<br><br><b>JuhoFlow:</b><br><a href="https://www.youtube.com/@JuhoFlow">YouTube ›</a><br><a href="https://www.tiktok.com/@juhoflow">TikTok ›</a><br><a href="https://www.instagram.com/juhoflow">Instagram ›</a><br><br><b>Satusetä:</b><br><a href="https://www.youtube.com/@satuseta">YouTube ›</a><br><a href="https://www.tiktok.com/@satusetaofficial">TikTok ›</a><br><a href="https://www.instagram.com/satusetaofficial">Instagram ›</a><br><br><b>Tiia Weckström:</b><br><a href="https://www.youtube.com/@tiia.weckstrom">YouTube ›</a><br><a href="https://www.tiktok.com/@tiia.weckstrom">TikTok ›</a><br><a href="https://www.instagram.com/tiia.weckstrom">Instagram ›</a><br><br>Esityksen kesto on n. 1 tunti ja siinä ei ole väliaikaa.<br><br>Tuotanto: Kangasala-talo ja TubeTrio<br><br><br><b>Lisäpalvelut</b><br>Naulakkopalvelumaksu 2,50 €<br><br><b>Ravintolan palvelut</b><br>Tule virittäytymään illan tunnelmaan jo ennakkoon! Ravintolapalvelut avautuvat tuntia ennen konserttia.<br><a href="https://kangasala-talo.fi/ravintola/" target="_blank">Tutustu Kulttuuriravintola Jalmarin palveluihin ›</a><br><br><b>Kimmo Pyykkö -taidemuseo</b><br>Kangasala-talossa sijaitseva taidemuseo on avoinna konsertin alkuun saakka.<br><a href="https://kimmopyykkotaidemuseo.fi/" target="_blank">Tutustu näyttelyihin ›</a><br><br><b>Saapuminen</b><br>Kangasala-talo sijaitsee hyvien kulkuyhteyksien varrella ja meille saavut helposti myös bussilla, pyörällä tai kävellen! Lue lisää saapumisesta ja pysäköinnistä <a href="https://kangasala-talo.fi/tule-meille/saapuminen/" target="_blank">täältä ›</a> <b>Klubi</b><br>Tervetuloa Kangasala-talon klubille! Voit istua pöydän ääressä parhaalla paikalla lavan edessä nauttimassa esityksestä ja baarin antimista. Permannolla on numeroimattomia pöytäpaikkoja ja katsomossa numeroimattomia istumapaikkoja. Salissa on myynnissä alkoholillisia ja alkoholittomia juomia. Salin ovet aukeavat ja myynti salissa alkaa 30 min ennen esityksen alkua. Tule ajoissa ja varmista parhaat paikat! Permannon pöytäpaikat ja osa nousevasta katsomosta ovat anniskelualuetta.<br><br><b>Anniskelukatsomo</b><br>Esityksessä on K18-anniskelualue katsomon yläosassa, riveillä 8-11.<br>Anniskelualueella sijaitsevalle istumapaikalle voi viedä ennen esitystä ja mahdollisen väliajan aikana ostamansa juoman.<br>Anniskelukatsomo on kielletty alle 18-vuotiailta. <br /><br />  Visit event in our website: <a href='https://tapahtumainfo.fi/tapahtuma/2026/08/tubetrio/442095'>Tapahtumainfo.fi</a></body></html>
END:VEVENT
END:VCALENDAR
