BEGIN:VCALENDAR
VERSION:2.0
PRODID:-//tapahtumainfo.fi//NONSGML Club Escape: Samuell K-18//EN
METHOD:REQUEST
BEGIN:VEVENT
UID:20260425T133330-1165515010-tapahtumainfo.fi
DTSTAMP:20260425T133330
DTSTART:20260508T220000Z
DTEND:20260508T020000Z
LOCATION:Club Escape
SUMMARY:Club Escape: Samuell K-18
DESCRIPTION:<html><head></head><body> <br /><br />  Visit event in our website: <a href='https://tapahtumainfo.fi/tapahtuma/2026/05/club-escape-samuell-k-18/442096'>Tapahtumainfo.fi</a></body></html>
END:VEVENT
END:VCALENDAR
