BEGIN:VCALENDAR
VERSION:2.0
PRODID:-//tapahtumainfo.fi//NONSGML Club For Five - Akustisesti//EN
METHOD:REQUEST
BEGIN:VEVENT
UID:20260424T165846-359237042-tapahtumainfo.fi
DTSTAMP:20260424T165846
DTSTART:20260507T190000Z
DTEND:20260507T020000Z
LOCATION:Pyhtään kirkko
SUMMARY:Club For Five - Akustisesti
DESCRIPTION:<html><head></head><body>Club For Five - Akustisesti vokaalimusiikin hetki, jossa kuulija kuljetetaan hiljentymään ja viihtymään yhtyeen musiikin parissa.<br><br>Konsertti sisältää tunnelmallisia lauluja yhtyeen uran varrelta. Taidokas viisikko kuljettaa kuulijaa taidokkaasti läpi erilaisten tunnelmien ja musiikin tyylilajien.<br><br>Club For Five on Suomen tunnetuimpia a cappella -yhtyeitä ja saavuttanut suurta suosiota myös ulkomailla. Yhtye on julkaissut 13 studioalbumia, joista 6 on myynyt kultaa. <br><br>Club For Five:<br>Maija Sariola (sopraano)<br>Saima Haapanen (altto)<br>Jouni Kannisto (tenori)<br>Juha Viitala (baritoni)<br>Tuukka Haapaniemi (basso) <br /><br />  Visit event in our website: <a href='https://tapahtumainfo.fi/tapahtuma/2026/05/club-for-five-akustisesti/442098'>Tapahtumainfo.fi</a></body></html>
END:VEVENT
END:VCALENDAR
