BEGIN:VCALENDAR
VERSION:2.0
PRODID:-//tapahtumainfo.fi//NONSGML Pikku Naisia//EN
METHOD:REQUEST
BEGIN:VEVENT
UID:20260422T161520-843295057-tapahtumainfo.fi
DTSTAMP:20260422T161520
DTSTART:20260428T180000Z
DTEND:20260428T020000Z
LOCATION:Haminan Teatteri
SUMMARY:Pikku Naisia
DESCRIPTION:<html><head></head><body><b>Joukko pikku naisia kutsuu sinut viettämään ihastuttavan teatterielämyksen Haminan teatteriin! </b><br><br>Näytelmässä katsoja pääsee tutustumaan neljän Marchin sisaruksen sielunmaisemaan, kun nämä yrittävät kasvaa aikuisiksi monenlaisten paineiden ja haaveiden keskellä. <br><br>Kirjailija Louisa M. Alcottin Pikku naisia -teos on säilyttänyt suosionsa jo yli puolitoista vuosisataa. Tämän monen ikäpolven lempikirjan on dramatisoinut näytelmäksi Hannu Tuisku. <br><br>Haminan teatterissa Pikku naiset herättää henkiin taitava ja inspiroitunut nuorten taiteilijoiden joukko! Näyttelijöiden lisäksi työryhmässä on nuoria myös puvustuksessa, lavastuksessa, rekvisiitassa, tekniikassa ja markkinoinnissa.<br><br>Ohjaaja Marianne Auvinen. <br><br>Liput 10 €. <br /><br />  Visit event in our website: <a href='https://tapahtumainfo.fi/tapahtuma/2026/04/pikku-naisia/442101'>Tapahtumainfo.fi</a></body></html>
END:VEVENT
END:VCALENDAR
