BEGIN:VCALENDAR
VERSION:2.0
PRODID:-//tapahtumainfo.fi//NONSGML Tomi Haustola - Yhden illan naurut K-18//EN
METHOD:REQUEST
BEGIN:VEVENT
UID:20260423T042630-1519257691-tapahtumainfo.fi
DTSTAMP:20260423T042630
DTSTART:20260918T180000Z
DTEND:20260918T020000Z
LOCATION:Ravintola Poppari
SUMMARY:Tomi Haustola - Yhden illan naurut K-18
DESCRIPTION:<html><head></head><body><b>Tomi Haustola – Yhden illan naurut</b><br><br>Yhden illan naurut on TV:stä ja TikTokista tutun stand up -koomikko Tomi Haustolan kokoillan show, jossa nauretaan sekä itselle että maailmalle.<br><br>Tomin uudistuneessa show’ssa pohditaan millaista on olla eronnut nelikymppinen (vastaus: väsyttävää, mutta niin nelikymppisyys yleensä on), mikä ihme on sugar daddy, pääseekö Teslalla Lappiin ja miksi lapsille kannattaa puhua tekohampaista, sekä muita elämän tärkeitä kysymyksiä.<br><br>Tomille tyypilliseen tapaan jokainen esitys on hauskasti oman näköisensä, joten tule nauramaan ja nauttimaan Kulttuurikellariin ainutlaatuisesta keikasta!<br><br>Tomi on esiintynyt televisio-ohjelmissa Nelosen Stand up, Naurun Tasapaino ja Noin Viikon Studio, sekä vieraillut lukuisissa muissa. Tämän lisäksi hän on käsikirjoittanut mm. Noin Viikon Uutisia, Suurmestaria ja Stadi vs. Landea.<br><br>Ikäraja 18 vuotta.<br><br>Esitys voidaan taltioida ja materiaalia esittää esimerkiksi sosiaalisessa mediassa. Esityksen valokuvaaminen on sallittu ja videokuvaaminen kielletty. Saavuthan ajoissa, sillä myöhässä tulijoille ei voida taata pääsyä keikalle. Mahdollinen eteispalvelumaksu ei kuulu lipun hintaan.<br> <br /><br />  Visit event in our website: <a href='https://tapahtumainfo.fi/tapahtuma/2026/09/tomi-haustola-yhden-illan-naurut-k-18/442108'>Tapahtumainfo.fi</a></body></html>
END:VEVENT
END:VCALENDAR
