BEGIN:VCALENDAR
VERSION:2.0
PRODID:-//tapahtumainfo.fi//NONSGML Tanssivirtaa Tampereella -festivaali: Moving North Tampere tanssielokuvanäytös//EN
METHOD:REQUEST
BEGIN:VEVENT
UID:20260422T174733-919276915-tapahtumainfo.fi
DTSTAMP:20260422T174733
DTSTART:20260523T160000Z
DTEND:20260523T020000Z
LOCATION:Arthouse Cinema Niagara
SUMMARY:Tanssivirtaa Tampereella -festivaali: Moving North Tampere tanssielokuvanäytös
DESCRIPTION:<html><head></head><body> <br /><br />  Visit event in our website: <a href='https://tapahtumainfo.fi'>Tapahtumainfo.fi</a></body></html>
END:VEVENT
END:VCALENDAR
