BEGIN:VCALENDAR
VERSION:2.0
PRODID:-//tapahtumainfo.fi//NONSGML Diivat studiossa//EN
METHOD:REQUEST
BEGIN:VEVENT
UID:20260422T152538-227855035-tapahtumainfo.fi
DTSTAMP:20260422T152538
DTSTART:20260913T160000Z
DTEND:20260913T020000Z
LOCATION:Aleksanterin teatteri
SUMMARY:Diivat studiossa
DESCRIPTION:<html><head></head><body>Diivat studiossa on äksy, humoristinen ja visuaalisesti viehko musiikkiteatteriesitys, jossa historia kohtaa nykypäivän. Kotimaiset diivamme Ida Aalberg ja Aino Ackté puhuvat suunsa puhtaaksi tv-studion kohdevaloissa. Naiset kertovat urastaan ja kohtaamistaan ongelmista työn ja kotielämän yhdistämisessä. Kokemuksia peilataan nykyaikaan ja Henrik Ibsenin Nukkekodin Noran aikanaan pöyristyttävään ratkaisuun jättää perheensä.<br><br>Haastattelija on nuorempi oman aikamme nainen, tv-influensseri, joka peilaa diivojen kokemuksia nykyiseen maailmanmenoon. Esityksen ensimmäisessä näytöksessä seurataan hermoja raastavaa valmistautumista h-hetkeen, kun taas toisessa näytöksessä kamerat käyvät ja suora lähetys alkaa. Suorasukaiset diivat sanailevat välillä kipakasti ja tarvittaessa panevat kunnolla ranttaliksi.<br><br>Taidehistorioitsija-kirjailija Anna Kortelainen on rakentanut historialliseen viitekehykseen koomisia elementtejä sisältävän käsikirjoituksen. Monia tyylilajeja hyödyntävän musiikin esitykseen on säveltänyt Olli Kortekangas. Tärkeässä roolissa on myös Kalle Paasosen valosuunnittelu. Lavastus- ja pukusuunnittelusta vastaa Elle Mikkola.<br><br>Näyttämöllä nähdään cembalisti-näyttelijä Elina Mustonen (Ida Aalberg), oopperalaulaja Reetta Ristimäki (Aino Ackté), tv-influensserina musikaalinäyttelijä Heljä Heikkinen ja studio-ohjaajana pianisti Anu Silvasti.<br><br>Kesto n. 1 h 20 min, sis. väliajan. <br /><br />  Visit event in our website: <a href='https://tapahtumainfo.fi/tapahtuma/2026/09/diivat-studiossa/442113'>Tapahtumainfo.fi</a></body></html>
END:VEVENT
END:VCALENDAR
