BEGIN:VCALENDAR
VERSION:2.0
PRODID:-//tapahtumainfo.fi//NONSGML Tappara - Ilves//EN
METHOD:REQUEST
BEGIN:VEVENT
UID:20260421T064950-1558376725-tapahtumainfo.fi
DTSTAMP:20260421T064950
DTSTART:20260421T183000Z
DTEND:20260421T020000Z
LOCATION:Nokia Arena
SUMMARY:Tappara - Ilves
DESCRIPTION:<html><head></head><body> <br /><br />  Visit event in our website: <a href='https://tapahtumainfo.fi/tapahtuma/2026/04/tappara-ilves/442125'>Tapahtumainfo.fi</a></body></html>
END:VEVENT
END:VCALENDAR
