BEGIN:VCALENDAR
VERSION:2.0
PRODID:-//tapahtumainfo.fi//NONSGML HCF 2026 - ENGLISH COMEDY & IMPRO NIGHT AT PAASITORNI K-18//EN
METHOD:REQUEST
BEGIN:VEVENT
UID:20260423T004703-179200085-tapahtumainfo.fi
DTSTAMP:20260423T004703
DTSTART:20260925T190000Z
DTEND:20260925T020000Z
LOCATION:Paasitornin pieni sali (J.Rissanen)
SUMMARY:HCF 2026 - ENGLISH COMEDY & IMPRO NIGHT AT PAASITORNI K-18
DESCRIPTION:<html><head></head><body><b>Helsinki Comedy Festival 2026</b> muuttaa kaupungin neljän päivän ajaksi naurun ytimeksi, kun kotimaiset tähdet, kansainväliset vieraat ja tuoreet tekijät ottavat haltuunsa klubit ja teatterit ympäri Helsinkiä. Luvassa on stand upia, improvisaatiota, komediatetteria ja erikoisiltoja – sekä täysin uusia show konsepteja, jotka uskaltavat rikkoa kaavoja ja yllättää yleisön kerta toisensa jälkeen.<br>Tämä festivaali tarjoaa intensiivisen latauksen energiaa, yllätyksiä ja sellaista naurua, joka jää kiertämään kehoon vielä pitkään esitysten jälkeen.<br>Jos haluat kokea komiikan, joka tuntuu ja näkyy – tämä on se viikko. Varaa paikkasi ennen kuin parhaat illat katoavat.<br><br>Tsekkaa tarkempia lisätietoja esityksistä, esiintyjistä ja esityspaikoista kotisivuiltamme <a href="https://www.helsinkicomedy.com/" target="_blank">www.helsinkicomedy.com</a><br>Ikäraja: K-18 <br /><br />  Visit event in our website: <a href='https://tapahtumainfo.fi/tapahtuma/2026/09/hcf-2026-english-comedy-impro-night-at-paasitorni-k-18/442152'>Tapahtumainfo.fi</a></body></html>
END:VEVENT
END:VCALENDAR
