BEGIN:VCALENDAR
VERSION:2.0
PRODID:-//tapahtumainfo.fi//NONSGML Säveliä sydämestä//EN
METHOD:REQUEST
BEGIN:VEVENT
UID:20260425T135123-290801726-tapahtumainfo.fi
DTSTAMP:20260425T135123
DTSTART:20261114T150000Z
DTEND:20261114T020000Z
LOCATION:Jyväskylän Yliopiston juhlasali
SUMMARY:Säveliä sydämestä
DESCRIPTION:<html><head></head><body><b>Säveliä sydämestä </b>-Keski-Suomen Sydänpiiri ry:n 70v -juhlakonsertti kutsuu sinut nauttimaan Konsta Hietasen upeista tulkinnoista suomalaisten rakastetuimmista lauluista 1950-1990 -luvuilta. Eino Leinon, Reino Helismaan, Juha Vainion, Juice Leskisen, Hectorin ja monen muun mestarin tuotokset heräävät henkiin uusilla sovituksilla ja karismaattisella yhdessäololla.<br><br>Paikkana toimii nostalginen Jyväskylän yliopiston juhlasali.<br><br>Esiintyjä:<b> Konsta Hietanen</b><br>Soittajat: <b>Santtu Väänänen</b> ja <b>Erno Liukkonen</b><br><br>Aikataulu:<br>La 14.11.2026, kello 15.00<br>Kesto noin 2,5h, väliaika (kahvio)<br>Ovet avautuvat kello 14.00<br>Salin ovet avautuvat puoli tuntia ennen esitystä<br><br>Vaatesäilytys: Tapahtumassa ei ole valvottua vaatesäilytystä. Ala-aulassa on naulakkotila.<br><br>Pyörätuoliliput ja avustaja käytännöt:<br>Pyörätuolilippuun sisältyy saattajan lippu.<br><br>Paikan esteettömyystiedot: Yliopiston juhlasali sijaitsee päärakennuksessa. Alasalissa on iduktiosilmukka. Tarkemmat saavutettavuustiedot löytyvät osoitteesta: <a href="https://www.jyu.fi/fi/yhteistyo/tilat-ja-tarjoilut/tilojen-ja-ymparistojen-liikkumisesteettomyys#C" target="_blank">www.jyu.fi/fi/yhteistyo/tilat-ja-tarjoilut/tilojen-ja-ymparistojen-liikkumisesteettomyys#C</a><br><br>Pysäköinti:<br>Suosittelemme saapumista julkisilla liikennevälineillä¤ lähialueen rajoitettujen pysäköintimahdollisuuksien vuoksi.<br>Pysäköintialuekarttoihin voit tutustua osoitteessa: <a href="https://https://www.jyu.fi/fi/meista/kartat-ja-tietoa-vierailijoille/pysakointi" target="-blank">www.jyu.fi/fi/meista/kartat-ja-tietoa-vierailijoille/pysakointi</a> <br /><br />  Visit event in our website: <a href='https://tapahtumainfo.fi/tapahtuma/2026/11/savelia-sydamesta/442168'>Tapahtumainfo.fi</a></body></html>
END:VEVENT
END:VCALENDAR
